BEGIN:VCALENDAR
VERSION:2.0
PRODID:-//ChamberMaster//Event Calendar 2.0//EN
METHOD:PUBLISH
X-PUBLISHED-TTL:P3D
REFRESH-INTERVAL:P3D
CALSCALE:GREGORIAN
BEGIN:VEVENT
DTSTART:20220205T150000Z
DTEND:20220205T190000Z
X-MICROSOFT-CDO-ALLDAYEVENT:FALSE
SUMMARY:Annual Antique Ford Car Show
DESCRIPTION:Our popular Annual Antique Ford Car Show is back! Each year\, classic car owners exhibit more than 100 cars on the Ford estate lawn as a tribute to Henry Ford\, the pioneer of the automobile industry. Along with the car show\, there will be music\, a food truck and visitors can tour the gardens\, museum\, laboratory and see the historic homes. \n\n\n\nThis family event is free for Edison Ford members and $25 for non-members\, which includes a self-guided tour of the entire site. Tickets can be purchased at edisonford.org or at the ticket counter. \n\n\n\nFor antique Ford owners wanting to participate\, registrations are being accepted for Ford models 1980 and older. To register a car\, visit our website and download the registration form. The deadline for registration is January 28 and the fee is $30 for one car and $15 for each additional car (includes admission for the registered participants and one passenger). For questions or help with registration\, please contact Lisa Wilson at lwilson@edisonford.org or Alex Edwards at aedwards@edisonford.org.
X-ALT-DESC;FMTTYPE=text/html:Our popular Annual Antique Ford Car Show is back! Each year\, classic car owners exhibit more than 100 cars on the Ford estate lawn as a tribute to Henry Ford\, the pioneer of the automobile industry. Along with the car show\, there will be music\, a food truck and visitors can tour the gardens\, museum\, laboratory and see the historic homes.&nbsp\;<br />\n<br />\nThis family event is free for Edison Ford members and $25 for non-members\, which includes a self-guided tour of the entire site. Tickets can be purchased at edisonford.org or at the ticket counter.&nbsp\;<br />\n<br />\nFor antique Ford owners wanting to participate\, registrations are being accepted for Ford models 1980 and older. To register a car\, visit our website and download the registration form. The deadline for registration is January 28 and the fee is $30 for one car and $15 for each additional car (includes admission for the registered participants and one passenger). For questions or help with registration\, please contact Lisa Wilson at lwilson@edisonford.org or Alex Edwards at aedwards@edisonford.org.&nbsp\;
LOCATION:Edison and Ford Winter Estates 2350 McGregor Blvd Fort Myers\, FL 33901
UID:e.341.40029
SEQUENCE:3
DTSTAMP:20260421T011940Z
URL:https://sanibel-island.sanibel-captiva.org/events/details/annual-antique-ford-car-show-40029
END:VEVENT

END:VCALENDAR
