BEGIN:VCALENDAR
VERSION:2.0
PRODID:-//ChamberMaster//Event Calendar 2.0//EN
METHOD:PUBLISH
X-PUBLISHED-TTL:P3D
REFRESH-INTERVAL:P3D
CALSCALE:GREGORIAN
BEGIN:VEVENT
DTSTART:20210306T150000Z
DTEND:20210306T190000Z
X-MICROSOFT-CDO-ALLDAYEVENT:FALSE
SUMMARY:Antique Car Show at Edison & Ford Winter Estates
DESCRIPTION:Antique Car Show at Edison & Ford Winter Estates\n\nSaturday\, March 6\, 2021\n\n10am   2pm\n\nEach year\, classic car owners and club members exhibit more than 100 cars on the Ford estate lawn as a tribute to Henry Ford\, the pioneer of the automobile industry.  Along with the car show there will be music\, a food truck and visitors can tour the gardens\, museum\, laboratory and see the historic homes.\n\nThis family event is free for Edison Ford members and $25 for non-members\, which includes a self-guided tour of the entire site.  Tickets may be purchased online at ecommerce.edisonford.org or at the ticket counter.\n\nFor antique Ford owners wanting to participate\, registrations are being accepted for Ford models 1980 and older.  The deadline for registration is February 22 and the fee is $30 per car (includes admission for the registered participant and one passenger).\n\nAdmission: Free to Edison Ford members\, $25 to non-members. Call 239.334.7419 or go to edisonford.org for further details.
X-ALT-DESC;FMTTYPE=text/html:<br />\n<br />\n<br />\n<br />\nAntique Car Show at Edison &amp\; Ford Winter Estates<br />\nSaturday\, March 6\, 2021<br />\n10am &ndash\; 2pm<br />\nEach year\, classic car owners and club members exhibit more than 100 cars on the Ford estate lawn as a tribute to Henry Ford\, the pioneer of the automobile industry.&nbsp\; Along with the car show there will be music\, a food truck and visitors can tour the gardens\, museum\, laboratory and see the historic homes.<br />\nThis family event is free for Edison Ford members and $25 for non-members\, which includes a self-guided tour of the entire site.&nbsp\; Tickets may be purchased online at ecommerce.edisonford.org or at the ticket counter.<br />\nFor antique Ford owners wanting to participate\, registrations are being accepted for Ford models 1980 and older.&nbsp\; The deadline for registration is February 22 and the fee is $30 per car (includes admission for the registered participant and one passenger).<br />\nAdmission: Free to Edison Ford members\, $25 to non-members. Call 239.334.7419 or go to edisonford.org for further details.<br />\n&nbsp\;
LOCATION:Edison & Ford Winter Estates 2350 McGregor Blvd. Fort Myers\, FL 33901
UID:e.341.38545
SEQUENCE:3
DTSTAMP:20260422T053242Z
URL:https://sanibel-island.sanibel-captiva.org/events/details/antique-car-show-at-edison-ford-winter-estates-38545
END:VEVENT

END:VCALENDAR
