BEGIN:VCALENDAR
VERSION:2.0
PRODID:-//ChamberMaster//Event Calendar 2.0//EN
METHOD:PUBLISH
X-PUBLISHED-TTL:P3D
REFRESH-INTERVAL:P3D
CALSCALE:GREGORIAN
BEGIN:VEVENT
DTSTART:20160514T130000Z
DTEND:20160514T140000Z
X-MICROSOFT-CDO-ALLDAYEVENT:FALSE
SUMMARY:Baby Boot Camp
DESCRIPTION:A certified fitness professional offers exercise classes for pregnant\, post-natal and ultra-fit moms.
X-ALT-DESC;FMTTYPE=text/html:<span style="font-family: cambria\,serif\;"><span style="font-size: 11pt\;">A certified fitness professional offers exercise classes for pregnant\, post-natal and ultra-fit moms.</span></span>
LOCATION:Miromar Outlets
UID:e.341.21077
SEQUENCE:3
DTSTAMP:20260424T123935Z
URL:https://sanibel-island.sanibel-captiva.org/events/details/baby-boot-camp-05-14-2016-21077
END:VEVENT

END:VCALENDAR
