BEGIN:VCALENDAR
VERSION:2.0
PRODID:-//ChamberMaster//Event Calendar 2.0//EN
METHOD:PUBLISH
X-PUBLISHED-TTL:P3D
REFRESH-INTERVAL:P3D
CALSCALE:GREGORIAN
BEGIN:VEVENT
DTSTART:20281225T150000Z
DTEND:20281225T160000Z
X-MICROSOFT-CDO-ALLDAYEVENT:FALSE
SUMMARY:Christmas Day Service at St. Michael & All Angels Episcopal Church
DESCRIPTION:10:00 a.m. Eucharist on Christmas Day - Join us for inspiring\, uplifting music and joyful prayer and communion as we gather together to celebrate the birth of Christ.
X-ALT-DESC;FMTTYPE=text/html:<p style="text-align: justify\;"><span style="font-family: tahoma\;"><span style="font-size: 16px\;"><strong><span style="color: rgb(0\, 100\, 0)\;">10:00 a.m. Eucharist on Christmas Day </span></strong>- Join us for inspiring\, uplifting music and joyful prayer and communion as we gather together to celebrate the birth of Christ.</span></span></p>\n
LOCATION:St. Michael and All Angels Episcopal Church 2304 Periwinkle Way Sanibel\, FL 33957
UID:e.341.30707
SEQUENCE:3
DTSTAMP:20260424T021751Z
URL:https://sanibel-island.sanibel-captiva.org/events/details/christmas-day-service-at-st-michael-all-angels-episcopal-church-12-25-2028-30707
END:VEVENT

END:VCALENDAR
