BEGIN:VCALENDAR
VERSION:2.0
PRODID:-//ChamberMaster//Event Calendar 2.0//EN
METHOD:PUBLISH
X-PUBLISHED-TTL:P3D
REFRESH-INTERVAL:P3D
CALSCALE:GREGORIAN
BEGIN:VEVENT
DTSTART:20201201T150000Z
DTEND:20201201T210000Z
X-MICROSOFT-CDO-ALLDAYEVENT:FALSE
SUMMARY:Creative Threads – Sally Dutko\, Bonnie Langenfeld\, & Angela Scozzari
DESCRIPTION:Fiber art is a widely celebrated art medium\, one that is ever evolving and crosses the boundaries between fine art and craft. Featuring fiber works by award-winning local artists Sally Dutko\, Bonnie Langenfeld and Angela Scozzari\, this exhibition demonstrates that fiber art is more than a traditional artform. Taking inspiration from their environment\, colors and texture\, works will range from intricately detailed landscapes to bold\, multi-layered abstract quilts and mixed media fiber sculptures.
X-ALT-DESC;FMTTYPE=text/html:Fiber art is a widely celebrated art medium\, one that is ever evolving and crosses the boundaries between fine art and craft. Featuring fiber works by award-winning local artists Sally Dutko\, Bonnie Langenfeld and Angela Scozzari\, this exhibition demonstrates that fiber art is more than a traditional artform. Taking inspiration from their environment\, colors and texture\, works will range from intricately detailed landscapes to bold\, multi-layered abstract quilts and mixed media fiber sculptures.
LOCATION:BIG ARTS Dunham Family Gallery 900 Dunlop Road
UID:e.341.37905
SEQUENCE:3
DTSTAMP:20260419T152910Z
URL:https://sanibel-island.sanibel-captiva.org/events/details/creative-threads-sally-dutko-bonnie-langenfeld-angela-scozzari-12-01-2020-37905
END:VEVENT

END:VCALENDAR
