BEGIN:VCALENDAR
VERSION:2.0
PRODID:-//ChamberMaster//Event Calendar 2.0//EN
METHOD:PUBLISH
X-PUBLISHED-TTL:P3D
REFRESH-INTERVAL:P3D
CALSCALE:GREGORIAN
BEGIN:VEVENT
DTSTART:20270520T150000Z
DTEND:20270520T170000Z
X-MICROSOFT-CDO-ALLDAYEVENT:FALSE
SUMMARY:CROW Campus Tour
DESCRIPTION:CROW provides a unique opportunity to look into wildlife rehabilitation and meet the staff responsible for their care. Wildlife walks are the best opportunity for visitors to get an in-depth look into the inner workings of our hospital and the treatment process.\n\n\n\nThe program has 2 parts:\n\n\n	Daily Presentation in the Visitor Education Center (45 -60 minutes)\n	Guided tour through hospital treatment areas and rehabilitation grounds (45-60 minutes)\n\nFounded in 1968\, the Clinic for the Rehabilitation of Wildlife (CROW) is a nonprofit organization dedicated to saving the sick\, injured\, and orphaned native and migratory wildlife of Southwest Florida and beyond. Through veterinary care\, educational programs\, and a visitor center\, CROW strives to improve the health of wildlife and the environment. Its state-of-the-art Harkey Sea Turtle Complex is anticipated to open in 2026. \n\nCost and Registration:\n\n\n	$25.00 per person\n	Only ages 10+ are permitted\n	Each tour is limited to 12 people\n	Tours are subject to modification and cancellation based on patients recovering in the hospital.\n	To register: Call (239) 472-3644 ext. #229 or email reservations@crowclinic.org. Due to schedules and limited spacing\, advanced registration and payment is required.
X-ALT-DESC;FMTTYPE=text/html:<p><span style="font-size:14px"><span style="font-family:arial\,helvetica\,sans-serif">CROW provides a unique opportunity to look into wildlife rehabilitation and meet the staff responsible for their care. Wildlife walks are the best opportunity for visitors to get an in-depth look into the inner workings of our hospital and the treatment process.<br />\n<br />\nThe program has 2 parts:</span></span></p>\n\n<ul>\n	<li><span style="font-size:14px"><span style="font-family:arial\,helvetica\,sans-serif">Daily Presentation in the Visitor Education Center (45 -60 minutes)</span></span></li>\n	<li><span style="font-size:14px"><span style="font-family:arial\,helvetica\,sans-serif">Guided tour through hospital treatment areas and rehabilitation grounds (45-60 minutes)</span></span></li>\n</ul>\n<span style="font-size:14px"><span style="font-family:arial\,helvetica\,sans-serif">Founded in 1968\, the Clinic for the Rehabilitation of Wildlife (CROW) is a nonprofit organization dedicated to saving the sick\, injured\, and orphaned native and migratory wildlife of Southwest Florida and beyond. Through veterinary care\, educational programs\, and a visitor center\, CROW strives to improve the health of wildlife and the environment. Its state-of-the-art Harkey Sea Turtle Complex is anticipated to open in 2026.&nbsp\;</span></span>\n\n<p><span style="font-size:14px"><span style="font-family:arial\,helvetica\,sans-serif"><strong>Cost and Registration:</strong></span></span></p>\n\n<ul>\n	<li><span style="font-size:14px"><span style="font-family:arial\,helvetica\,sans-serif">$25.00 per person</span></span></li>\n	<li><span style="font-size:14px"><span style="font-family:arial\,helvetica\,sans-serif">Only ages 10+ are permitted</span></span></li>\n	<li><span style="font-size:14px"><span style="font-family:arial\,helvetica\,sans-serif">Each tour is limited to 12 people</span></span></li>\n	<li><span style="font-size:14px"><span style="font-family:arial\,helvetica\,sans-serif">Tours are subject to modification and cancellation based on patients recovering in the hospital.</span></span></li>\n	<li><span style="font-size:14px"><span style="font-family:arial\,helvetica\,sans-serif"><strong>To register:</strong>&nbsp\;Call (239) 472-3644 ext. #229 or email&nbsp\;<a href="mailto:reservations@crowclinic.org" style="box-sizing: inherit\; background-color: transparent\; line-height: inherit\; color: rgb(62\, 127\, 2)\; text-decoration: none\; cursor: pointer\; transition: color 0.2s\; -webkit-tap-highlight-color: rgba(193\, 128\, 253\, 0.5) !important\; margin-bottom: 0px\; border-bottom: 1px solid rgb(62\, 127\, 2)\; outline: none\;">reservations@crowclinic.org</a>. Due to schedules and limited spacing\, advanced registration and payment is required.</span></span></li>\n</ul>\n
LOCATION:3883 Sanibel Captiva Rd Sanibel\, FL 33957
UID:e.341.53137
SEQUENCE:3
DTSTAMP:20260422T224339Z
URL:https://sanibel-island.sanibel-captiva.org/events/details/crow-campus-tour-05-20-2027-53137
END:VEVENT

END:VCALENDAR
