BEGIN:VCALENDAR
VERSION:2.0
PRODID:-//ChamberMaster//Event Calendar 2.0//EN
METHOD:PUBLISH
X-PUBLISHED-TTL:P3D
REFRESH-INTERVAL:P3D
CALSCALE:GREGORIAN
BEGIN:VEVENT
DTSTART:20180406T130000Z
DTEND:20180406T180000Z
X-MICROSOFT-CDO-ALLDAYEVENT:FALSE
SUMMARY:CROW Yard Sale
DESCRIPTION:Come out to shop at the CROW Yard Sale! Browse a wide selection of items including furniture\, home dec r\, artwork\, books and other gently used treasures! All sales benefit the Clinic for the Rehabilitation of Wildlife!\n\nInterested in donating your gently used items to be sold? Contact JoEllen Urasky by phone at (239) 472-3644 ext. #221 or email at jurasky@crowclinic.org! We are unable to accept electronics\, appliances\, computers\, printers\, mattresses\, clothes or shoes.
X-ALT-DESC;FMTTYPE=text/html:<p>Come out to shop at the CROW Yard Sale! Browse a wide selection of items including furniture\, home dec&oacute\;r\, artwork\, books and other gently used treasures! All sales benefit the Clinic for the Rehabilitation of Wildlife!</p>\n\n<p>Interested in donating your gently used items to be sold? Contact JoEllen Urasky by phone at (239) 472-3644 ext. #221 or email at&nbsp\;<a href="mailto:jurasky@crowclinic.org" style="color: rgb(51\, 122\, 183)\; font-weight: 700\; box-sizing: border-box\; background-color: transparent\; text-decoration-line: none\;">jurasky@crowclinic.org</a>! We are&nbsp\;<strong>unable to accept</strong>&nbsp\;electronics\, appliances\, computers\, printers\, mattresses\, clothes or shoes.</p>\n
LOCATION:CROW Visitor Education Center 3883 Sanibel-Captiva Rd. Sanibel\, FL
UID:e.341.29125
SEQUENCE:3
DTSTAMP:20260420T170751Z
URL:https://sanibel-island.sanibel-captiva.org/events/details/crow-yard-sale-29125
END:VEVENT

END:VCALENDAR
