BEGIN:VCALENDAR
VERSION:2.0
PRODID:-//ChamberMaster//Event Calendar 2.0//EN
METHOD:PUBLISH
X-PUBLISHED-TTL:P3D
REFRESH-INTERVAL:P3D
CALSCALE:GREGORIAN
BEGIN:VEVENT
DTSTART:20190421T140000Z
DTEND:20190421T153000Z
X-MICROSOFT-CDO-ALLDAYEVENT:FALSE
SUMMARY:Easter Egg Hunt & Dolphin Cruise ''Island Style''
DESCRIPTION:Join the Easter Bunny!\n\nCruise the San Carlos Bay and along the way catch a glimpse or two of dolphins! Arrive at Picnic Island to find a thousand eggs with treats and experience easter egg hunting like you never have before!\n\n* Easter pails will be provided\n\n* Complimentary bottle water\n\n* Pictures with the Easter Bunny!\n\n\n\nReservations required. Limited Availability.
X-ALT-DESC;FMTTYPE=text/html:<span style="color: rgb(238\, 130\, 238)\;"><strong>Join the Easter Bunny!</strong></span><br />\nCruise the San Carlos Bay and along the way catch a glimpse or two of dolphins! Arrive at Picnic Island to find a thousand eggs with treats and experience easter egg hunting like you never have before!<br />\n* Easter pails will be provided<br />\n* Complimentary bottle water<br />\n* Pictures with the Easter Bunny!<br />\n<br />\n<strong>Reservations required. Limited Availability.</strong>
LOCATION:Cruise departs from Adventures In Paradise at Port Sanibel Marina 14341 Port Comfort Rd. Fort Myers\, FL 33908
UID:e.341.29140
SEQUENCE:3
DTSTAMP:20260425T133809Z
URL:https://sanibel-island.sanibel-captiva.org/events/details/easter-egg-hunt-dolphin-cruise-island-style-04-21-2019-29140
END:VEVENT

END:VCALENDAR
