BEGIN:VCALENDAR
VERSION:2.0
PRODID:-//ChamberMaster//Event Calendar 2.0//EN
METHOD:PUBLISH
X-PUBLISHED-TTL:P3D
REFRESH-INTERVAL:P3D
CALSCALE:GREGORIAN
BEGIN:VEVENT
DTSTART:20190905T200000Z
DTEND:20190905T220000Z
X-MICROSOFT-CDO-ALLDAYEVENT:FALSE
SUMMARY:Every Day Happy Hour PLUS Margarita Mondays on the Gulf at Sea Breeze Cafe
DESCRIPTION:Happy Hour is a daily event at Sea Breeze Cafe from 4-6 pm!  Enjoy drink specials\, appetizers and the best Gulf views on Sanibel Island from the terrace\, bar or indoor dining room.  Plus\,  Margarita Mondays are celebrated from 4-10 pm weekly\, featuring $5 margaritas.
X-ALT-DESC;FMTTYPE=text/html:Happy Hour is a daily event at Sea Breeze Cafe from 4-6 pm!&nbsp\; Enjoy drink specials\, appetizers and the best Gulf views on Sanibel Island from the terrace\, bar or indoor dining room.&nbsp\;&nbsp\;Plus\, &nbsp\;Margarita Mondays are celebrated from 4-10 pm weekly\, featuring $5 margaritas.
LOCATION:Sea Breeze Cafe Sundial Beach Resort & Spa 1451 Middle Gulf Drive Sanibel FL 33957
UID:e.341.33748
SEQUENCE:3
DTSTAMP:20260419T183953Z
URL:https://sanibel-island.sanibel-captiva.org/events/details/every-day-happy-hour-plus-margarita-mondays-on-the-gulf-at-sea-breeze-cafe-09-05-2019-33748
END:VEVENT

END:VCALENDAR
