BEGIN:VCALENDAR
VERSION:2.0
PRODID:-//ChamberMaster//Event Calendar 2.0//EN
METHOD:PUBLISH
X-PUBLISHED-TTL:P3D
REFRESH-INTERVAL:P3D
CALSCALE:GREGORIAN
BEGIN:VEVENT
DTSTART;VALUE=DATE:20261030
DTEND;VALUE=DATE:20261031
TRANSP:TRANSPARENT
X-MICROSOFT-CDO-ALLDAYEVENT:TRUE
SUMMARY:Fall Fest Halloween Candy Carnival
DESCRIPTION:Fall Fest Halloween Candy Carnival
X-ALT-DESC;FMTTYPE=text/html:Fall Fest Halloween Candy Carnival
LOCATION:Sanibel Community House
UID:e.341.51858
SEQUENCE:3
DTSTAMP:20260423T101904Z
URL:https://sanibel-island.sanibel-captiva.org/events/details/fall-fest-halloween-candy-carnival-51858
END:VEVENT

END:VCALENDAR
