BEGIN:VCALENDAR
VERSION:2.0
PRODID:-//ChamberMaster//Event Calendar 2.0//EN
METHOD:PUBLISH
X-PUBLISHED-TTL:P3D
REFRESH-INTERVAL:P3D
CALSCALE:GREGORIAN
BEGIN:VEVENT
DTSTART:20170308T143000Z
DTEND:20170308T160000Z
X-MICROSOFT-CDO-ALLDAYEVENT:FALSE
SUMMARY:Free Birds & Wildlife Tour
DESCRIPTION:Follow along on a car caravan tour of the refuge. This tour highlights the fascinating natural wonders of this unique mangrove ecosystem and the wildlife that lives here. Meet at the flagpole in front of Visitor & Education Center. Bring sunscreen\, bug spray\, and water.
X-ALT-DESC;FMTTYPE=text/html:<span style="font-family: calibri\,sans-serif\;">Follow along on a car caravan tour of the refuge. This tour highlights the fascinating natural wonders of this unique mangrove ecosystem and the wildlife that lives here. Meet at the flagpole in front of Visitor &amp\; Education Center. <span style="color: rgb(26\, 26\, 26)\;">Bring sunscreen\, bug spray\, and water.</span></span>
LOCATION:J.N. "Ding" Darling National Wildlife Refuge 1 Wildlife Dr.
UID:e.341.24249
SEQUENCE:3
DTSTAMP:20260424T133555Z
URL:https://sanibel-island.sanibel-captiva.org/events/details/free-birds-wildlife-tour-03-08-2017-24249
END:VEVENT

END:VCALENDAR
