BEGIN:VCALENDAR
VERSION:2.0
PRODID:-//ChamberMaster//Event Calendar 2.0//EN
METHOD:PUBLISH
X-PUBLISHED-TTL:P3D
REFRESH-INTERVAL:P3D
CALSCALE:GREGORIAN
BEGIN:VEVENT
DTSTART:20200217T180000Z
DTEND:20200217T183000Z
X-MICROSOFT-CDO-ALLDAYEVENT:FALSE
SUMMARY:Free "Ding" Darling Gators & Crocs Program
DESCRIPTION:Is it an alligator or a crocodile? Learn about the Order Crocodilia\, including crocodiles\, gharials\, alligators\, and caimans. Learn how to identify families and local species in the Refuge. Fun for all ages! \n\n\n\nMeet at the Crossdike Pavilion on Wildlife Drive. We encourage you bring water\, sunscreen\, insect repellent\, and binoculars.
X-ALT-DESC;FMTTYPE=text/html:Is it an alligator or a crocodile? Learn about the Order Crocodilia\, including crocodiles\, gharials\, alligators\, and caimans. Learn how to identify families and local species in the Refuge. Fun for all ages!&nbsp\;<br />\n<br />\nMeet at the Crossdike Pavilion on Wildlife Drive. We encourage you bring water\, sunscreen\, insect repellent\, and binoculars.
LOCATION:1 Wildlife Drive Sanibel\, FL 33957 Located at the Crossdike Pavilion on Wildlife Drive.
UID:e.341.35659
SEQUENCE:3
DTSTAMP:20260420T222617Z
URL:https://sanibel-island.sanibel-captiva.org/events/details/free-ding-darling-gators-crocs-program-02-17-2020-35659
END:VEVENT

END:VCALENDAR
