BEGIN:VCALENDAR
VERSION:2.0
PRODID:-//ChamberMaster//Event Calendar 2.0//EN
METHOD:PUBLISH
X-PUBLISHED-TTL:P3D
REFRESH-INTERVAL:P3D
CALSCALE:GREGORIAN
BEGIN:VEVENT
DTSTART:20190718T140000Z
DTEND:20190718T150000Z
X-MICROSOFT-CDO-ALLDAYEVENT:FALSE
SUMMARY:FREE Summer Program -- Indigo Trail Walk
DESCRIPTION:Naturalists lead a tour identifying and discussing the ecosystem's plant and animal species. Fun for all ages! Meet at the flagpole in front of the Visitor & Education Center. Don't forget your sunscreen\, bugspray\, and water!\n\nNo pre-registration required.
X-ALT-DESC;FMTTYPE=text/html:Naturalists lead a tour identifying and discussing the ecosystem&#39\;s plant and animal species. Fun for all ages! Meet at the flagpole in front of the Visitor &amp\; Education Center. Don&#39\;t forget your sunscreen\, bugspray\, and water!<br />\nNo pre-registration required.&nbsp\;
LOCATION:J.N. "Ding" Darling National Wildlife Refuge\, Sanibel\, FL
UID:e.341.33525
SEQUENCE:3
DTSTAMP:20260421T070228Z
URL:https://sanibel-island.sanibel-captiva.org/events/details/free-summer-program-indigo-trail-walk-07-18-2019-33525
END:VEVENT

END:VCALENDAR
