BEGIN:VCALENDAR
VERSION:2.0
PRODID:-//ChamberMaster//Event Calendar 2.0//EN
METHOD:PUBLISH
X-PUBLISHED-TTL:P3D
REFRESH-INTERVAL:P3D
CALSCALE:GREGORIAN
BEGIN:VEVENT
DTSTART:20260512T150000Z
DTEND:20260512T170000Z
X-MICROSOFT-CDO-ALLDAYEVENT:FALSE
SUMMARY:Friendly Faces Luncheon
DESCRIPTION:FISH of SanCap invites the community to its next Friendly Faces Luncheon on Tuesday\, May 12 beginning at 11:00 a.m. The monthly gathering brings neighbors together for a shared meal\, conversation\, and connection\, with a focus on reducing isolation and helping people stay engaged and supported.\n\nPlease note the change of venue for the May event. For May\, the luncheon will be held at Sanibel Community Church\, Fellowship Hall\, located at 1740 Periwinkle Way\, Sanibel. FISH will be providing lunch from the Sanibel Caf . The organization will also offer a do-it-yourself sundae bar with goodies from The Shack.\n\n\n\nThis month's guest speaker is Billy Kirkland\, a longtime Sanibel business owner whose life story reflects persistence\, service\, and steady work over time. During the luncheon\, Kirkland will speak openly about the path he has taken\, including the setbacks that shaped his decisions and the progress that followed. His story reflects the realities many face\, including starting over\, adapting to change\, and staying focused through uncertainty. His perspective connects with the mission of FISH\, which centers on helping neighbors move forward when life becomes difficult. Those interested in attending can RSVP at this link\, https://friendlyfacesmay2026.rsvpify.com\,  or reach out to Erika\, erika@fishofsancap.org\,  to reserve a seat.
X-ALT-DESC;FMTTYPE=text/html:<div><br />\n<span style="font-size:14px"><span style="font-family:arial\,helvetica\,sans-serif">FISH of SanCap invites the community to its next Friendly Faces Luncheon on Tuesday\, May 12 beginning at 11:00 a.m. The monthly gathering brings neighbors together for a shared meal\, conversation\, and connection\, with a focus on reducing isolation and helping people stay engaged and supported.<br />\n<strong>Please note the change of venue for the May event. For May\, the luncheon will be held at Sanibel Community Church\, Fellowship Hall\, located at 1740 Periwinkle Way\, Sanibel.&nbsp\;FISH will be providing lunch from the Sanibel Caf&eacute\;. The organization will also offer a&nbsp\;do-it-yourself sundae bar with goodies from The Shack.</strong><br />\n<br />\nThis month&rsquo\;s guest speaker is Billy Kirkland\, a longtime Sanibel business owner whose life story reflects persistence\, service\, and steady work over time.&nbsp\;During the luncheon\, Kirkland will speak openly about the path he has taken\, including the setbacks that shaped his decisions and the progress that followed. His story reflects the realities many face\, including starting over\, adapting to change\, and staying focused through uncertainty. His perspective connects with the mission of FISH\, which centers on helping neighbors move forward when life becomes difficult.&nbsp\;Those interested in attending can RSVP at this link\, <a href="https://friendlyfacesmay2026.rsvpify.com">https://friendlyfacesmay2026.rsvpify.com</a>\,&nbsp\; or reach out to Erika\, <a href="mailto:erika@fishofsancap.org">erika@fishofsancap.org</a>\,&nbsp\; to reserve a seat.</span></span></div>\n
LOCATION:Sanibel Community Church\, 1740 Periwinkle Way. Those interested in attending can RSVP at this link\, https://friendlyfacesmay2026.rsvpify.com\, or reach out to Erika\, erika@fishofsancap.org\, to reserve a seat.
UID:e.341.53854
SEQUENCE:3
DTSTAMP:20260423T184421Z
URL:https://sanibel-island.sanibel-captiva.org/events/details/friendly-faces-luncheon-05-12-2026-53854
END:VEVENT

END:VCALENDAR
