BEGIN:VCALENDAR
VERSION:2.0
PRODID:-//ChamberMaster//Event Calendar 2.0//EN
METHOD:PUBLISH
X-PUBLISHED-TTL:P3D
REFRESH-INTERVAL:P3D
CALSCALE:GREGORIAN
BEGIN:VEVENT
DTSTART:20190222T190000Z
DTEND:20190222T200000Z
X-MICROSOFT-CDO-ALLDAYEVENT:FALSE
SUMMARY:Ft. Myers Architecture from Craftsman to Modern: Book Talk at Library
DESCRIPTION:Authors Pam Miner and Jared Beck will be at the SPL for a book signing and discussion of their book\, "River & Road: Fort Myers Architecture From Craftsman to Modern." \n\n\n\n"River & Road" is a visual and narrative history of the architectural evolution and urban development of Southwest Florida. Fort Myers has been home to the winter estates of the rich and famous\, including Thomas Edison\, Henry Ford\, and oil tycoon Ambrose McGregor. The city's famed McGregor Boulevard continues to draw visitors with its eclectic blend of houses and unique histories dating back to the nineteenth century.\n\n\n \n\nPamela Miner is a historian with experience in historic preservation\, museums\, and education and is the former curator of collections and interpretation for the Edison & Ford Winter Estates.\nJared Beck is an urban planner with a focused background including urban redevelopment\, historic preservation\, and community development.\n\n\n\nThe public is invited to this Library program. There is no registration required and no cost to participate.
X-ALT-DESC;FMTTYPE=text/html:<div style="margin-left:20px"><span style="font-family:arial\,helvetica\,sans-serif"><span style="font-size:14px"><span style="color:rgb(0\, 0\, 0)">&nbsp\;Authors Pam Miner and Jared Beck will be at the SPL for a book signing and discussion of their book\, &ldquo\;River &amp\; Road: Fort Myers Architecture From Craftsman to Modern.&rdquo\;&nbsp\;</span></span><br />\n<br />\n<em>&quot\;River &amp\; Road&quot\;&nbsp\;</em><span style="background-color:rgb(255\, 255\, 255)\; color:rgb(51\, 51\, 51)\; font-size:14px">is a visual and narrative history of the architectural evolution and urban development of Southwest Florida</span><span style="font-size:14px">. Fort Myers has been home to the winter estates of the rich and famous\, including Thomas Edison\, Henry Ford\, and oil tycoon Ambrose McGregor. The city&rsquo\;s famed McGregor Boulevard continues to draw visitors with its eclectic blend of houses and unique histories dating back to the nineteenth century.</span></span></div>\n\n<div style="margin-left:20px">\n<div>&nbsp\;</div>\n\n<div><strong>Pamela Miner</strong><span style="background-color:rgb(255\, 255\, 255)\; color:rgb(85\, 85\, 85)\; font-family:lato\,sans-serif\; font-size:14px">&nbsp\;is a historian with experience in historic preservation\, museums\, and education and is the former curator of collections and interpretation for the Edison &amp\; Ford Winter Estates.</span></div>\n<strong>Jared Beck</strong><span style="background-color:rgb(255\, 255\, 255)\; color:rgb(85\, 85\, 85)\; font-family:lato\,sans-serif\; font-size:14px">&nbsp\;is an urban planner with a focused background including urban redevelopment\, historic preservation\, and community development.</span><br />\n<br />\n<span style="font-size:14px"><span style="color:rgb(0\, 0\, 0)\; font-family:arial\,helvetica\,sans-serif">The public is invited to this Library program. There is no registration required and no cost to participate.</span></span></div>\n
LOCATION:Sanibel Public Library\, 770 Dunlop Road\, Sanibel 33957
UID:e.341.33488
SEQUENCE:3
DTSTAMP:20260419T171345Z
URL:https://sanibel-island.sanibel-captiva.org/events/details/ft-myers-architecture-from-craftsman-to-modern-book-talk-at-library-33488
END:VEVENT

END:VCALENDAR
