BEGIN:VCALENDAR
VERSION:2.0
PRODID:-//ChamberMaster//Event Calendar 2.0//EN
METHOD:PUBLISH
X-PUBLISHED-TTL:P3D
REFRESH-INTERVAL:P3D
CALSCALE:GREGORIAN
BEGIN:VEVENT
DTSTART:20160810T143000Z
DTEND:20160810T153000Z
X-MICROSOFT-CDO-ALLDAYEVENT:FALSE
SUMMARY:Garden Tour at Edison Ford
DESCRIPTION:Horticulturists lead behind-the-scenes garden tours which include 20 acres of historic gardens\, crop gardens\,\n\npropagating nursery\, and Garden Shoppe full of exotic\, heritage and edible plants for gardens and containers.
X-ALT-DESC;FMTTYPE=text/html:Horticulturists lead behind-the-scenes garden tours which include 20 acres of historic gardens\, crop gardens\,<br />\npropagating nursery\, and Garden Shoppe full of exotic\, heritage and edible plants for gardens and containers.
LOCATION:Edison & Ford Winter Estates
UID:e.341.20840
SEQUENCE:3
DTSTAMP:20260424T133458Z
URL:https://sanibel-island.sanibel-captiva.org/events/details/garden-tour-at-edison-ford-08-10-2016-20840
END:VEVENT

END:VCALENDAR
