BEGIN:VCALENDAR
VERSION:2.0
PRODID:-//ChamberMaster//Event Calendar 2.0//EN
METHOD:PUBLISH
X-PUBLISHED-TTL:P3D
REFRESH-INTERVAL:P3D
CALSCALE:GREGORIAN
BEGIN:VEVENT
DTSTART:20240226T143000Z
DTEND:20240226T160000Z
X-MICROSOFT-CDO-ALLDAYEVENT:FALSE
SUMMARY:Hidden Treasures - Wildlife Drive Caravan Tour - FREE Winter Program
DESCRIPTION:Bring your car and join our caravan! This program will take you through the refuge in the comfort of your own car learning all things "Ding". Enjoy all the nature the refuge has to offer - you never know what you may see!\n\nWhen and Where:\n\n\n	This program will run from 9:30am - 11:00am\n	Meet at the Roost (behind the kiosk outside the Visitor and Education Center)\n	Arrive by 9:25am to check-in and confirm your attendance.\n	This tour is limited to 20 individuals. Walk-ins are accepted if space permits. Sign up on Eventbrite to guarantee your spot!\n\n\nCome prepared:\n\n\n	Sun protection (hat\, sunglasses\, sunscreen)\n	Bug protection (long sleeves/pants\, bug spray)\n	Water\n\n\n*Register on Eventbrite. Find all programs at dingdarling.eventbrite.com
X-ALT-DESC;FMTTYPE=text/html:<p>Bring your car and join our caravan! This program will take you through the refuge in the comfort of your own car learning all things &ldquo\;Ding&rdquo\;. Enjoy all the nature the refuge has to offer - you never know what you may see!</p>\n\n<p><strong>When and Where:</strong></p>\n\n<ul>\n	<li>This program will run from 9:30am - 11:00am</li>\n	<li>Meet at the Roost (behind the kiosk outside the Visitor and Education Center)</li>\n	<li>Arrive by 9:25am to check-in and confirm your attendance.</li>\n	<li>This tour is limited to 20 individuals. Walk-ins are accepted if space permits. Sign up on Eventbrite to guarantee your spot!</li>\n</ul>\n\n<p><strong>Come prepared:</strong></p>\n\n<ul>\n	<li>Sun protection (hat\, sunglasses\, sunscreen)</li>\n	<li>Bug protection (long sleeves/pants\, bug spray)</li>\n	<li>Water</li>\n</ul>\n\n<p><em>*Register on Eventbrite. Find all programs at dingdarling.eventbrite.com</em></p>\n
LOCATION:J.N. "Ding" Darling National Wildlife Refuge 1 Wildlife Drive\, Sanibel\, FL\, 33957 Meet at the Roost outside the Visitor and Education Center
UID:e.341.42639
SEQUENCE:3
DTSTAMP:20260423T223424Z
URL:https://sanibel-island.sanibel-captiva.org/events/details/hidden-treasures-wildlife-drive-caravan-tour-free-winter-program-02-26-2024-42639
END:VEVENT

END:VCALENDAR
