BEGIN:VCALENDAR
VERSION:2.0
PRODID:-//ChamberMaster//Event Calendar 2.0//EN
METHOD:PUBLISH
X-PUBLISHED-TTL:P3D
REFRESH-INTERVAL:P3D
CALSCALE:GREGORIAN
BEGIN:VEVENT
DTSTART;VALUE=DATE:20160704
DTEND;VALUE=DATE:20160705
TRANSP:TRANSPARENT
X-MICROSOFT-CDO-ALLDAYEVENT:TRUE
SUMMARY:Independence Day Celebrations - 2016
DESCRIPTION:Events will take place on Monday July 4th.\n\nFree Pancake Breakfast at the Sanibel Community Church\, 1740 Periwinkle Way\, 7am to 9am\n\nBailey's Celebration - 2477 Periwinkle Way\, 8:30 am\n\nParade starts at 9:30 am and begins at Tarpon Bay Road and Periwinkle (Bailey's Center) ending at Periwinkle and Casa Ybel Road (Jerry's Center).\n\nJerry's Celebration - 1700 Periwinkle Way\, 10:30 am\n\n36th annual Optimists' 4th of July Road Rally. It starts at Noon from the Timbers parking lot\, 703 Tarpon Bay Road\n\n\n\nFireworks at 9:00 pm\, rain or shine sponsored by the City of Sanibel
X-ALT-DESC;FMTTYPE=text/html:<div><span class="text">Events will take place on&nbsp\;Monday July 4th.<br />\nFree Pancake Breakfast at the Sanibel Community Church\, </span>1740 Periwinkle Way\, 7am to 9am<br />\n<span class="text">Bailey&#39\;s Celebration - </span>2477 Periwinkle Way\, <span class="text">8:30 am<br />\nParade starts at 9:30 am and begins at Tarpon Bay Road and Periwinkle (Bailey&rsquo\;s Center) ending at Periwinkle and Casa Ybel Road (Jerry&rsquo\;s Center).<br />\nJerry&#39\;s Celebration - </span>1700 Periwinkle Way\, 10:30 am<br />\n<span class="text">36th annual Optimists&#39\; 4th of July Road Rally. It starts at Noon from the Timbers parking lot\, 703 Tarpon Bay Road</span><br />\n<br />\nFireworks at 9:00 pm\, rain or shine sponsored by the City of Sanibel</div>\n
LOCATION:
UID:e.341.22685
SEQUENCE:3
DTSTAMP:20260424T133227Z
URL:https://sanibel-island.sanibel-captiva.org/events/details/independence-day-celebrations-2016-07-04-2016-22685
END:VEVENT

END:VCALENDAR
