BEGIN:VCALENDAR
VERSION:2.0
PRODID:-//ChamberMaster//Event Calendar 2.0//EN
METHOD:PUBLISH
X-PUBLISHED-TTL:P3D
REFRESH-INTERVAL:P3D
CALSCALE:GREGORIAN
BEGIN:VEVENT
DTSTART:20160518T140000Z
DTEND:20160518T160000Z
X-MICROSOFT-CDO-ALLDAYEVENT:FALSE
SUMMARY:Moms Appreciation Day
DESCRIPTION:Moms receive a coupon for a free drink and treat from le macaron French pastries when you bring your kids to FREE Kids Crafts.
X-ALT-DESC;FMTTYPE=text/html:<span style="font-family: cambria\,serif\;"><span style="font-size: 12pt\;">Moms receive a coupon for a free drink and treat from le macaron French pastries when you bring your kids to FREE Kids Crafts.</span></span>
LOCATION:
UID:e.341.22545
SEQUENCE:3
DTSTAMP:20260424T124139Z
URL:https://sanibel-island.sanibel-captiva.org/events/details/moms-appreciation-day-05-18-2016-22545
END:VEVENT

END:VCALENDAR
