BEGIN:VCALENDAR
VERSION:2.0
PRODID:-//ChamberMaster//Event Calendar 2.0//EN
METHOD:PUBLISH
X-PUBLISHED-TTL:P3D
REFRESH-INTERVAL:P3D
CALSCALE:GREGORIAN
BEGIN:VEVENT
DTSTART:20210217T160000Z
DTEND:20210217T163000Z
X-MICROSOFT-CDO-ALLDAYEVENT:FALSE
SUMMARY:Museum Musings: Edison's Kinetophone
DESCRIPTION:In this Museum Musings program\, join Curatorial Registrar Matt Andres as he delves into ushering in a new era of films: Edison's Kinetophone. This program is free for Edison Ford members and included with admission for non-members.
X-ALT-DESC;FMTTYPE=text/html:<p>In this Museum Musings program\, join Curatorial Registrar Matt Andres as he delves into ushering in a new era of films: Edison&#39\;s Kinetophone. This program is free for Edison Ford members and included with admission for non-members.</p>\n
LOCATION:Edison and Ford Winter Estates 2350 McGregor Blvd Fort Myers\, FL 33901
UID:e.341.38258
SEQUENCE:3
DTSTAMP:20260425T161857Z
URL:https://sanibel-island.sanibel-captiva.org/events/details/museum-musings-edison-s-kinetophone-38258
END:VEVENT

END:VCALENDAR
