BEGIN:VCALENDAR
VERSION:2.0
PRODID:-//ChamberMaster//Event Calendar 2.0//EN
METHOD:PUBLISH
X-PUBLISHED-TTL:P3D
REFRESH-INTERVAL:P3D
CALSCALE:GREGORIAN
BEGIN:VEVENT
DTSTART:20241206T223000Z
DTEND:20241207T020000Z
X-MICROSOFT-CDO-ALLDAYEVENT:FALSE
SUMMARY:Sanibel Luminary Holiday Stroll - 2024
DESCRIPTION:The Chamber is proud to host its 36th annual Luminary Festival on Sanibel and Captiva Islands Friday\, December 6th on Sanibel. Luminary Holiday Stroll is a community-wide holiday event that brings together residents\, visitors\, businesses and organizations\, promoting goodwill and community spirit. Some of our visitors make early hotel reservations especially for the event.\nAs you "stroll the trail"\, look for the many fun places to stop and enjoy. There will be Santa visits\, photos with Santa\, a live nativity scene\, music and activities for the entire family.\n\nOur goal is to offer recognition to Island businesses and encourage local shopping while providing a fun-filled evening for family and friends. All Chamber merchants are invited to participate and show off their creative decorated storefronts and host holiday celebrations at their center.
X-ALT-DESC;FMTTYPE=text/html:<div><font size="2">The Chamber is proud to host its 36th annual Luminary Festival on Sanibel and Captiva Islands Friday\, December 6th on Sanibel. Luminary&nbsp\;Holiday Stroll&nbsp\;is a community-wide holiday event that brings together residents\, visitors\, businesses and organizations\, promoting goodwill and community spirit. Some of our visitors make early hotel reservations especially for the event.</font>\n<div><font size="2">As you &quot\;stroll the trail&quot\;\, look for the many fun places to stop and enjoy. There will be&nbsp\;Santa visits\, photos with Santa\, a live nativity scene\, music and activities for the entire family.</font></div>\n\n<div><font size="2">Our goal is to offer recognition to Island businesses and encourage local shopping while providing a fun-filled evening for family and friends. All Chamber merchants are invited to participate and show off their creative decorated storefronts and host holiday celebrations at their center.</font></div>\n</div>\n
LOCATION:Sanibel & Captiva Islands
UID:e.341.41935
SEQUENCE:3
DTSTAMP:20260422T193035Z
URL:https://sanibel-island.sanibel-captiva.org/events/details/sanibel-luminary-holiday-stroll-2024-41935
END:VEVENT

END:VCALENDAR
