BEGIN:VCALENDAR
VERSION:2.0
PRODID:-//ChamberMaster//Event Calendar 2.0//EN
METHOD:PUBLISH
X-PUBLISHED-TTL:P3D
REFRESH-INTERVAL:P3D
CALSCALE:GREGORIAN
BEGIN:VEVENT
DTSTART:20161105T130000Z
DTEND:20161105T180000Z
X-MICROSOFT-CDO-ALLDAYEVENT:FALSE
SUMMARY:Shell Point Holiday Bazaar
DESCRIPTION:Talented Shell Point residents spend the year handcrafting or enhancing unique items for sale during the Shell Point Holiday Bazaar. This free event features a large assortment of crafted items for sale\, including specialty holiday d cor\, handbags\, jewelry\, three-dimensional paper crafts\, special artwork\, children's items\, books\, wood sculptures\, tasty treats\, and much more. Cash or check only please\; ATM on premises. Call (239) 454-2290 for more information.
X-ALT-DESC;FMTTYPE=text/html:<span style="font-family: times new roman\,serif\;"><span style="font-size: 12pt\;">Talented Shell Point residents spend the year handcrafting or enhancing unique items for sale during the Shell Point Holiday Bazaar. This free event features a large assortment of crafted items for sale\, including </span></span><span style="font-family: times new roman\,serif\;"><span style="font-size: 12pt\;">specialty holiday d&eacute\;cor\, handbags\, jewelry\, three-dimensional paper crafts\, special artwork\, children&rsquo\;s items\, books\, wood sculptures\, tasty treats\, and much more. Cash or check only please\; ATM on premises. Call (239) 454-2290 for more information.</span></span>
LOCATION:Shell Point Retirement Community 14441 Woodsong Lane Fort Myers\, FL 33908
UID:e.341.23977
SEQUENCE:3
DTSTAMP:20260424T123923Z
URL:https://sanibel-island.sanibel-captiva.org/events/details/shell-point-holiday-bazaar-11-05-2016-23977
END:VEVENT

END:VCALENDAR
