BEGIN:VCALENDAR
VERSION:2.0
PRODID:-//ChamberMaster//Event Calendar 2.0//EN
METHOD:PUBLISH
X-PUBLISHED-TTL:P3D
REFRESH-INTERVAL:P3D
CALSCALE:GREGORIAN
BEGIN:VEVENT
DTSTART:20210220T150000Z
DTEND:20210220T190000Z
X-MICROSOFT-CDO-ALLDAYEVENT:FALSE
SUMMARY:Silk Scarf Painting Class
DESCRIPTION:There are a few spots left in this upcoming silk scarf painting session!! Join artist Marie Dyer for a silk scarf painting workshop in the Edison and Ford Winter Estates River Pavilion. In this workshop\, participants will learn techniques to create a one-of-a-kind 14" by 72" silk scarf. No experience is required and all materials will be supplied. Capacity is limited so please make sure that your register in advance. Register online at edisonford.org. Please redeem your ticket at the ticket counter to get your wristband.\n\n			\n\n			The cost of this program is $90 for Edison Ford members and $100 for non-members.
X-ALT-DESC;FMTTYPE=text/html:<table border="0" cellpadding="0">\n	<tbody>\n		<tr>\n			<td style="vertical-align:top"><span style="color:#333333"><span style="font-family:helvetica\,sans-serif"><span style="font-size:10.0pt">There are a few spots left in this upcoming silk scarf painting session!! Join artist Marie Dyer for a silk scarf painting workshop in the Edison and Ford Winter Estates River Pavilion. In this workshop\, participants will learn techniques to create a one-of-a-kind 14&quot\; by 72&quot\; silk scarf. No experience is required and all materials will be supplied. Capacity is limited so please make sure that your register in advance. Register online at edisonford.org. Please redeem your ticket at the ticket counter to get your wristband.</span></span></span><br />\n			<br />\n			<span style="color:#333333"><span style="font-family:helvetica\,sans-serif"><span style="font-size:10.0pt">The cost of this program is $90 for Edison Ford members and $100 for non-members.</span></span></span></td>\n		</tr>\n	</tbody>\n</table>\n
LOCATION:Edison and Ford Winter Estates 2350 McGregor Blvd Fort Myers\, FL 33901
UID:e.341.38523
SEQUENCE:3
DTSTAMP:20260420T091016Z
URL:https://sanibel-island.sanibel-captiva.org/events/details/silk-scarf-painting-class-38523
END:VEVENT

END:VCALENDAR
