BEGIN:VCALENDAR
VERSION:2.0
PRODID:-//ChamberMaster//Event Calendar 2.0//EN
METHOD:PUBLISH
X-PUBLISHED-TTL:P3D
REFRESH-INTERVAL:P3D
CALSCALE:GREGORIAN
BEGIN:VEVENT
DTSTART:20200229T143000Z
DTEND:20200229T193000Z
X-MICROSOFT-CDO-ALLDAYEVENT:FALSE
SUMMARY:Silk Scarf Painting with Marie Dyer
DESCRIPTION:In this session\, a variety of techniques will be taught to inspire painters of all levels to create their own one-of-a-kind scarf. The scarves can be worn or displayed as art! All skill levels are welcome. This session will take place in the Edison Ford River Pavilion. Tickets can be purchased online on our website at \n\nhttps://www.edisonfordwinterestates.org/events/silk-scarf-painting-with-marie-dyer/ or by calling 239-334-7419. Advanced reservations are encouraged as class size is limited. This session is $95 for Edison Ford members and $105 for non-members.
X-ALT-DESC;FMTTYPE=text/html:In this session\, a variety of techniques will be taught to inspire painters of all levels to create their own one-of-a-kind scarf. The scarves can be worn or displayed as art! All skill levels are welcome. This session will take place in the Edison Ford River Pavilion. Tickets can be purchased online on our website at&nbsp\;<br />\nhttps://www.edisonfordwinterestates.org/events/silk-scarf-painting-with-marie-dyer/ or by calling 239-334-7419. Advanced reservations are encouraged as class size is limited. This session is $95 for Edison Ford members and $105 for non-members.&nbsp\;
LOCATION:Edison and Ford Winter Estates 2350 McGregor Blvd Fort Myers\, FL 33901
UID:e.341.36054
SEQUENCE:3
DTSTAMP:20260425T143809Z
URL:https://sanibel-island.sanibel-captiva.org/events/details/silk-scarf-painting-with-marie-dyer-02-29-2020-36054
END:VEVENT

END:VCALENDAR
