BEGIN:VCALENDAR
VERSION:2.0
PRODID:-//ChamberMaster//Event Calendar 2.0//EN
METHOD:PUBLISH
X-PUBLISHED-TTL:P3D
REFRESH-INTERVAL:P3D
CALSCALE:GREGORIAN
BEGIN:VEVENT
DTSTART:20281123T150000Z
DTEND:20281123T160000Z
X-MICROSOFT-CDO-ALLDAYEVENT:FALSE
SUMMARY:Thanksgiving Day Worship Service at St. Michael & All Angels Episcopal Church
DESCRIPTION:St. Michael & All Angels Episcopal Church\n\nInvites you to join us for its\n\nThanksgiving Day Service of Eucharist \n\nThursday\, November 22nd\n\n10:00 a.m.\n\n2304 Periwinkle Way   Sanibel Island\n\n[239] 472-2173\n\nwww.saintmichaels-sanibel.org\n\n \n\nPlease consider bringing non-perishable goods for our local Food Pantries.
X-ALT-DESC;FMTTYPE=text/html:<div style="text-align: center\;"><strong><span style="color: rgb(255\, 102\, 0)\;"><span style="font-size: 18pt\;">St. Michael &amp\; All Angels Episcopal Church<br />\nInvites you to join us for its</span></span></strong><br />\n<strong><span style="color: rgb(255\, 102\, 0)\;"><span style="font-size: 22pt\;">Thanksgiving Day Service of Eucharist&nbsp\;</span></span></strong><br />\n<span style="color: rgb(255\, 102\, 0)\;"><span style="font-size: 22pt\;">Thursday\, November 22<sup>nd</sup></span></span><br />\n<span style="color: rgb(255\, 102\, 0)\;"><span style="font-size: 22pt\;">10:00 a.m.</span></span></div>\n\n<div style="text-align: center\;"><strong><span style="color: rgb(255\, 102\, 0)\;"><span style="font-size: 16pt\;">2304 Periwinkle Way &bull\; Sanibel Island</span></span></strong><br />\n<strong><span style="color: rgb(255\, 102\, 0)\;"><span style="font-size: 14pt\;">[239] 472-2173</span></span></strong><br />\n<strong><span style="color: rgb(255\, 102\, 0)\;"><span style="font-size: 14pt\;">www.saintmichaels-sanibel.org</span></span></strong></div>\n\n<div style="text-align: center\;">&nbsp\;</div>\n\n<div style="text-align: center\;"><span style="font-size: 18px\;"><span style="color: rgb(255\, 102\, 0)\;"><span style="font-family: arial\,sans-serif\;">Please consider bringing non-perishable goods for our local&nbsp\;Food Pantries.</span></span></span></div>\n
LOCATION:2304 Periwinkle Way\, Sanibel
UID:e.341.30807
SEQUENCE:3
DTSTAMP:20260424T010307Z
URL:https://sanibel-island.sanibel-captiva.org/events/details/thanksgiving-day-worship-service-at-st-michael-all-angels-episcopal-church-11-23-2028-30807
END:VEVENT

END:VCALENDAR
