BEGIN:VCALENDAR
VERSION:2.0
PRODID:-//ChamberMaster//Event Calendar 2.0//EN
METHOD:PUBLISH
X-PUBLISHED-TTL:P3D
REFRESH-INTERVAL:P3D
CALSCALE:GREGORIAN
BEGIN:VEVENT
DTSTART:20161124T213000Z
DTEND:20161124T230000Z
X-MICROSOFT-CDO-ALLDAYEVENT:FALSE
SUMMARY:Thanksgiving Sunset Dolphin Cruise
DESCRIPTION:Adventures In Paradise presents the Thanksgiving Sunset Dolphin Cruise!\n\n\n\nListening to tropical music\, we will cruise the tranquil waters of San Carlos Bay\, by "Bird Island" while on the lookout for dolphins! Complimentary soft drinks and water.\n\n\n\nSo gather your family and friends and board the Sunset Dolphin Cruise. Narrated By knowledgeable Captain and First Mate
X-ALT-DESC;FMTTYPE=text/html:Adventures In Paradise presents the Thanksgiving Sunset Dolphin Cruise!<br />\n<br />\nListening to tropical music\, we will cruise the tranquil waters of San Carlos Bay\, by &quot\;Bird Island&quot\; while on the lookout for dolphins! Complimentary soft drinks and water.<br />\n<br />\nSo gather your family and friends and board the Sunset Dolphin Cruise. Narrated By knowledgeable Captain and First Mate
LOCATION:Port Sanibel Marina 14341 Port Comfort Rd. Fort Myers\, FL 33908
UID:e.341.3753
SEQUENCE:3
DTSTAMP:20260424T124212Z
URL:https://sanibel-island.sanibel-captiva.org/events/details/thanksgiving-sunset-dolphin-cruise-11-24-2016-3753
END:VEVENT

END:VCALENDAR
