BEGIN:VCALENDAR
VERSION:2.0
PRODID:-//ChamberMaster//Event Calendar 2.0//EN
METHOD:PUBLISH
X-PUBLISHED-TTL:P3D
REFRESH-INTERVAL:P3D
CALSCALE:GREGORIAN
BEGIN:VEVENT
DTSTART:20241130T220000Z
DTEND:20241201T010000Z
X-MICROSOFT-CDO-ALLDAYEVENT:FALSE
SUMMARY:Tree Lighting Ceremony
DESCRIPTION:Join the continued celebration of the 50th anniversary of the City of Sanibel's incorporation with a holiday tree lighting event at Community Park. The magnificent 20 foot tree and other decorations will be on display throughout the month of December for the community to enjoy. Light refreshments will be provided after the tree lighting at the Sanibel Community House. Snap a photo with Santa and his crew while enjoying cookies and crafts!
X-ALT-DESC;FMTTYPE=text/html:<span style="font-family:aptos\,sans-serif\;"><span style="font-size:11.0pt\;">Join the continued celebration of the 50th anniversary of the City of Sanibel&rsquo\;s incorporation with a holiday tree lighting event at Community Park. The magnificent 20 foot tree and other decorations will be on display throughout the month of December for the community to enjoy. Light refreshments will be provided after the tree lighting at the Sanibel Community House. Snap a photo with Santa and his crew while enjoying cookies and crafts!</span></span>
LOCATION:
UID:e.341.45849
SEQUENCE:3
DTSTAMP:20260422T145450Z
URL:https://sanibel-island.sanibel-captiva.org/events/details/tree-lighting-ceremony-45849
END:VEVENT

END:VCALENDAR
