BEGIN:VCALENDAR
VERSION:2.0
PRODID:-//ChamberMaster//Event Calendar 2.0//EN
METHOD:PUBLISH
X-PUBLISHED-TTL:P3D
REFRESH-INTERVAL:P3D
CALSCALE:GREGORIAN
BEGIN:VEVENT
DTSTART:20180724T220000Z
DTEND:20180724T230000Z
X-MICROSOFT-CDO-ALLDAYEVENT:FALSE
SUMMARY:VIP Teen 'After Hours' at Sanibel Public Library
DESCRIPTION:VIP Teen Night at Sanibel Public Library: \n\n\n\nIncoming sixth through twelfth graders are invited to V.I.P. After-hours gatherings on Tuesday evenings in June and July from 6 to 7 p.m. Creating a guitar pick and cupcake decorating are just a few of the planned activities.\n\n\n\nFor more info\, call Youth Services Librarian Deanna Evans at (239) 472-2483.\n\nThere is no additional charge to participate\, residents and visitors are welcome.
X-ALT-DESC;FMTTYPE=text/html:<p><span style="font-family: comic sans ms\;"><span style="font-size: 12px\;"><span style="font-family: tahoma\;"><strong><span style="font-family: comic sans ms\;">VIP Teen Night at Sanibel Public Library: </span></strong></span></span></span><br />\n<br />\n<span style="color: black\;">Incoming sixth through twelfth graders are invited to V.I.P. After-hours gatherings on Tuesday evenings in June and July from 6 to 7 p.m. Creating a guitar pick and cupcake decorating are just a few of the planned activities.</span><br />\n<br />\n<span style="font-family: comic sans ms\;"><span style="font-size: 12px\;"><span style="font-family: tahoma\;">For more info\, call Youth Services Librarian Deanna Evans at (239) 472-2483.<br />\nThere is no additional charge to participate\, residents and visitors are welcome.</span></span></span></p>\n
LOCATION:Sanibel Public Library\, 770 Dunlop Rd\, Sanibel 33957
UID:e.341.29591
SEQUENCE:3
DTSTAMP:20260423T112926Z
URL:https://sanibel-island.sanibel-captiva.org/events/details/vip-teen-after-hours-at-sanibel-public-library-07-24-2018-29591
END:VEVENT

END:VCALENDAR
