BEGIN:VCALENDAR
VERSION:2.0
PRODID:-//ChamberMaster//Event Calendar 2.0//EN
METHOD:PUBLISH
X-PUBLISHED-TTL:P3D
REFRESH-INTERVAL:P3D
CALSCALE:GREGORIAN
BEGIN:VEVENT
DTSTART:20161201T000000Z
DTEND:20161201T010000Z
X-MICROSOFT-CDO-ALLDAYEVENT:FALSE
SUMMARY:Walk through Bethlehem
DESCRIPTION:Bring a friend and take a Walk through Bethlehem. Join the cast as they portray a time of tension in their lives and the anticipation of the coming Messiah. Guests entering the complex will find themselves immersed into the little town of Bethlehem as they meet shopkeepers\, beggars\, and guards. Who knows\, perhaps they will come upon the place of the Christ's birth? \n\nPerformances are Wednesday\, November 30th\; 7-8 pm and Friday\, December 2nd\; 5:30-9 pm. Located in the Historic Chapel at Sanibel Community Church\, 1740 Periwinkle Way (next to Jerry's). This performance is free.
X-ALT-DESC;FMTTYPE=text/html:<p><span style="color: black\; font-family: cambria\,serif\; font-size: 14pt\;">Bring a friend and take a Walk through Bethlehem. J<span style="font-size: 14pt\;">oin the cast as they portray a time of tension in their lives and the anticipation of the coming Messiah. Guests entering the complex will find themselves immersed into the little town of Bethlehem as they meet shopkeepers\, beggars\, and guards. Who knows\, perhaps they will come upon the place of the Christ&rsquo\;s birth?</span></span><span style="color: black\; font-family: arial\,sans-serif\; font-size: 14pt\;">&nbsp\;</span></p>\n\n<p><span style="color: black\; font-family: cambria\,serif\; font-size: 14pt\;">Performances are Wednesday\, November 30<sup>th</sup>\; 7-8 pm and Friday\, December 2<sup>nd</sup>\; 5:30-9 pm. Located in the Historic Chapel at Sanibel Community Church\, 1740 Periwinkle Way (next to Jerry&rsquo\;s). This performance is free.</span></p>\n
LOCATION:Sanibel Community Church\, 1740 Periwinkle Way\, Sanibel\, FL 33957
UID:e.341.23969
SEQUENCE:3
DTSTAMP:20260424T123833Z
URL:https://sanibel-island.sanibel-captiva.org/events/details/walk-through-bethlehem-23969
END:VEVENT

END:VCALENDAR
