BEGIN:VCALENDAR
VERSION:2.0
PRODID:-//ChamberMaster//Event Calendar 2.0//EN
METHOD:PUBLISH
X-PUBLISHED-TTL:P3D
REFRESH-INTERVAL:P3D
CALSCALE:GREGORIAN
BEGIN:VEVENT
DTSTART:20160805T180000Z
DTEND:20160805T193000Z
X-MICROSOFT-CDO-ALLDAYEVENT:FALSE
SUMMARY:Wildlife Walk with Rehabilitators and Staff
DESCRIPTION:Advance Registration Required\n\n\n\nWildlife Walks are the best opportunity for visitors to get an in-depth look into the inner workings of our hospital and the treatment process. The program has two parts: an introductory presentation covering our medical and rehabilitation methods and then a guided tour through treatment areas of the hospital\, concluding on our rehabilitation grounds. Wildlife Walks are approximately 1 and   hours: a 45-minute presentation with a 45-minute tour. This program is open to all\, but it is not recommended for children under the age of 13.                                                                                                           \n\n  Photography opportunity available following tour with Animal Ambassador\nSponsered by the Sanibel Captiva Trust Company
X-ALT-DESC;FMTTYPE=text/html:Advance Registration Required<br />\n<br />\n<span style="font-family: calibri\; font-size: 11pt\;">Wildlife Walks are the best opportunity for visitors to get an in-depth look into the inner workings of our hospital and the treatment process. The program has two parts: an introductory presentation covering our medical and rehabilitation methods and then a guided tour through treatment areas of the hospital\, concluding on our rehabilitation grounds. Wildlife Walks are approximately 1 and &frac12\; hours: a 45-minute presentation with a 45-minute tour.&nbsp\;</span><span style="font-family: calibri\; font-size: 14.66px\;">This program is open to all\, but it is not recommended for children under the age of 13. &nbsp\; &nbsp\; &nbsp\; &nbsp\; &nbsp\; &nbsp\; &nbsp\; &nbsp\; &nbsp\; &nbsp\; &nbsp\; &nbsp\; &nbsp\; &nbsp\; &nbsp\; &nbsp\; &nbsp\; &nbsp\; &nbsp\; &nbsp\; &nbsp\; &nbsp\; &nbsp\; &nbsp\; &nbsp\; &nbsp\; &nbsp\; &nbsp\; &nbsp\; &nbsp\; &nbsp\; &nbsp\;</span><span style="font-family: calibri\; font-size: 14.66px\;">&nbsp\; &nbsp\; &nbsp\; &nbsp\; &nbsp\; &nbsp\; &nbsp\; &nbsp\; &nbsp\; &nbsp\; &nbsp\; &nbsp\; &nbsp\; &nbsp\; &nbsp\; &nbsp\; &nbsp\; &nbsp\; &nbsp\; &nbsp\; &nbsp\; &nbsp\;</span>\n\n<p><span style="font-family: calibri\; font-size: 11pt\;">&bull\; Photography opportunity available following tour with Animal Ambassador</span></p>\n<!--EndFragment--><strong>Sponsered by the Sanibel Captiva Trust Company</strong>
LOCATION:CROW's Visitor Education Center 3883 Sanibel Captiva Rd. Sanibel\, FL 33957
UID:e.341.22567
SEQUENCE:3
DTSTAMP:20260424T124407Z
URL:https://sanibel-island.sanibel-captiva.org/events/details/wildlife-walk-with-rehabilitators-and-staff-08-05-2016-22567
END:VEVENT

END:VCALENDAR
